BEGIN:VCALENDAR
VERSION:2.0
PRODID:-//hacksw/handcal//NONSGML v1.0//EN
BEGIN:VEVENT
SUMMARY:Tournoi du mercredi
UID:5d6da2f8-978d-4450-9a73-82ca6fc56c88
DTSTART:20230510T120000Z
DTEND:20230510T160000Z
LOCATION:Localisation   
CATEGORIES:Sportif
STATUS:
URL;VALUE=URI:https://bridgeclubeauze.sportsregions.fr/evenements/2023/05/10/tournoi-du-mercredi-1796886
END:VEVENT
END:VCALENDAR
