BEGIN:VCALENDAR
VERSION:2.0
PRODID:-//hacksw/handcal//NONSGML v1.0//EN
BEGIN:VEVENT
SUMMARY:Tournoi du mercredi
UID:162ee8ee-b460-4220-8a80-32d0a72aea56
DTSTART:20230517T120000Z
DTEND:20230517T160000Z
LOCATION:Localisation   
CATEGORIES:Sportif
STATUS:
URL;VALUE=URI:https://bridgeclubeauze.sportsregions.fr/evenements/2023/05/17/tournoi-du-mercredi-1796887
END:VEVENT
END:VCALENDAR
