BEGIN:VCALENDAR
VERSION:2.0
PRODID:-//hacksw/handcal//NONSGML v1.0//EN
BEGIN:VEVENT
SUMMARY:Tournoi du mercredi
UID:49885488-3293-4ee4-8917-e3181aa99d4b
DTSTART:20230524T120000Z
DTEND:20230524T160000Z
LOCATION:Localisation   
CATEGORIES:Sportif
STATUS:
URL;VALUE=URI:https://bridgeclubeauze.sportsregions.fr/evenements/2023/05/24/tournoi-du-mercredi-1796888
END:VEVENT
END:VCALENDAR
