BEGIN:VCALENDAR
VERSION:2.0
PRODID:-//hacksw/handcal//NONSGML v1.0//EN
BEGIN:VEVENT
SUMMARY:Repas du 31 Mai 2023
UID:6002442b-649d-486f-a15c-959d3c5ca2e2
DTSTART:20230531T173000Z
DTEND:20230531T200000Z
LOCATION:Localisation Cafe de France 32800 Eauze
CATEGORIES:Festif
STATUS:
DESCRIPTION:<p>Aperitif au club apres le Tournoi et l'assemblee
 generale.</p>
 
 <p>Menu 15 €  vin et cafe compris</p>
 
 <p><u> 2
 entrees au choix</u> : salade verte,endives,roquefort et noix OU
 tarte fine de tomates anciennes + salade verte vinaigrette
 basilic.</p>
 
 <p><u>2 plats</u>  : poissons du moment,risotto au jus
 de carottes et beurre d'oranges  OU gigot d'agneau,pommes
 duchesse,compotees d'oignons et jus de roti.</p>
 
 <p><u>2
 desserts</u>  : gazpacho de fraises +glace vanille  OU
 mille-feuille,creme patissiere a la vanille
 Bourbon</p>
 
 <p>Inscription / date limite 27 Mai 2023</p>
 
URL;VALUE=URI:https://bridgeclubeauze.sportsregions.fr/evenements/2023/05/31/repas-du-31-mai-2023-1812681
END:VEVENT
END:VCALENDAR
