BEGIN:VCALENDAR
VERSION:2.0
PRODID:-//hacksw/handcal//NONSGML v1.0//EN
BEGIN:VEVENT
SUMMARY:Tournoi du mercredi
UID:e1da7b5e-4084-43b9-a8a0-b1eba3c053df
DTSTART:20230628T120000Z
DTEND:20230628T160000Z
LOCATION:Localisation   
CATEGORIES:Sportif
STATUS:
URL;VALUE=URI:https://bridgeclubeauze.sportsregions.fr/evenements/2023/06/28/tournoi-du-mercredi-1796893
END:VEVENT
END:VCALENDAR
