BEGIN:VCALENDAR
VERSION:2.0
PRODID:-//hacksw/handcal//NONSGML v1.0//EN
BEGIN:VEVENT
SUMMARY:Tournoi du mercredi
UID:940b39f6-7d74-4c22-849a-1a405b96c3ff
DTSTART:20230705T120000Z
DTEND:20230705T160000Z
LOCATION:Localisation   
CATEGORIES:Sportif
STATUS:
URL;VALUE=URI:https://bridgeclubeauze.sportsregions.fr/evenements/2023/07/05/tournoi-du-mercredi-1820574
END:VEVENT
END:VCALENDAR
