BEGIN:VCALENDAR
VERSION:2.0
PRODID:-//hacksw/handcal//NONSGML v1.0//EN
BEGIN:VEVENT
SUMMARY:Tournoi du mercredi
UID:a97dc868-0d75-431c-acbc-c34a277a94de
DTSTART:20230719T120000Z
DTEND:20230719T160000Z
LOCATION:Localisation   
CATEGORIES:Sportif
STATUS:
URL;VALUE=URI:https://bridgeclubeauze.sportsregions.fr/evenements/2023/07/19/tournoi-du-mercredi-1820577
END:VEVENT
END:VCALENDAR
