BEGIN:VCALENDAR
VERSION:2.0
PRODID:-//hacksw/handcal//NONSGML v1.0//EN
BEGIN:VEVENT
SUMMARY:Tournoi du mercredi
UID:552d1857-b874-47cb-9826-6000b2c261b7
DTSTART:20230726T120000Z
DTEND:20230726T160000Z
LOCATION:Localisation   
CATEGORIES:Sportif
STATUS:
URL;VALUE=URI:https://bridgeclubeauze.sportsregions.fr/evenements/2023/07/26/tournoi-du-mercredi-1820578
END:VEVENT
END:VCALENDAR
