BEGIN:VCALENDAR
VERSION:2.0
PRODID:-//hacksw/handcal//NONSGML v1.0//EN
BEGIN:VEVENT
SUMMARY:Tournoi du mercredi
UID:ba928ebc-9ae6-480e-bf76-2eaeb60f7650
DTSTART:20230802T120000Z
DTEND:20230802T160000Z
LOCATION:Localisation   
CATEGORIES:Sportif
STATUS:
URL;VALUE=URI:https://bridgeclubeauze.sportsregions.fr/evenements/2023/08/02/tournoi-du-mercredi-1820579
END:VEVENT
END:VCALENDAR
