BEGIN:VCALENDAR
VERSION:2.0
PRODID:-//hacksw/handcal//NONSGML v1.0//EN
BEGIN:VEVENT
SUMMARY:Tournoi du mercredi
UID:03828ae7-0073-454f-afe0-6c59bc29c8d2
DTSTART:20230809T120000Z
DTEND:20230809T160000Z
LOCATION:Localisation   
CATEGORIES:Sportif
STATUS:
URL;VALUE=URI:https://bridgeclubeauze.sportsregions.fr/evenements/2023/08/09/tournoi-du-mercredi-1820580
END:VEVENT
END:VCALENDAR
