BEGIN:VCALENDAR
VERSION:2.0
PRODID:-//hacksw/handcal//NONSGML v1.0//EN
BEGIN:VEVENT
SUMMARY:Tournoi du mercredi
UID:529ba4ae-f362-4b83-bd8e-dda01220130a
DTSTART:20230816T120000Z
DTEND:20230816T160000Z
LOCATION:Localisation   
CATEGORIES:Sportif
STATUS:
URL;VALUE=URI:https://bridgeclubeauze.sportsregions.fr/evenements/2023/08/16/tournoi-du-mercredi-1820581
END:VEVENT
END:VCALENDAR
