BEGIN:VCALENDAR
VERSION:2.0
PRODID:-//hacksw/handcal//NONSGML v1.0//EN
BEGIN:VEVENT
SUMMARY:Tournoi du mercredi
UID:04b697ad-8c48-42db-868e-08bf301b2c8a
DTSTART:20230830T120000Z
DTEND:20230830T160000Z
LOCATION:Localisation   
CATEGORIES:Sportif
STATUS:
URL;VALUE=URI:https://bridgeclubeauze.sportsregions.fr/evenements/2023/08/30/tournoi-du-mercredi-1820583
END:VEVENT
END:VCALENDAR
