BEGIN:VCALENDAR
VERSION:2.0
PRODID:-//hacksw/handcal//NONSGML v1.0//EN
BEGIN:VEVENT
SUMMARY:Tournoi du mercredi
UID:11fcba17-6cdf-4ee9-a547-caefb8f227a5
DTSTART:20230906T120000Z
DTEND:20230906T160000Z
LOCATION:Localisation   
CATEGORIES:Sportif
STATUS:
URL;VALUE=URI:https://bridgeclubeauze.sportsregions.fr/evenements/2023/09/06/tournoi-du-mercredi-1820584
END:VEVENT
END:VCALENDAR
