BEGIN:VCALENDAR
VERSION:2.0
PRODID:-//hacksw/handcal//NONSGML v1.0//EN
BEGIN:VEVENT
SUMMARY:Tournoi du mercredi
UID:763b4e23-fdff-468e-8953-945d29e7b46f
DTSTART:20230920T120000Z
DTEND:20230920T160000Z
LOCATION:Localisation   
CATEGORIES:Sportif
STATUS:
URL;VALUE=URI:https://bridgeclubeauze.sportsregions.fr/evenements/2023/09/20/tournoi-du-mercredi-1820586
END:VEVENT
END:VCALENDAR
