BEGIN:VCALENDAR
VERSION:2.0
PRODID:-//hacksw/handcal//NONSGML v1.0//EN
BEGIN:VEVENT
SUMMARY:Tournoi du mercredi
UID:313865d1-58ae-4020-8bca-f6483202cfea
DTSTART:20230927T120000Z
DTEND:20230927T160000Z
LOCATION:Localisation   
CATEGORIES:Sportif
STATUS:
URL;VALUE=URI:https://bridgeclubeauze.sportsregions.fr/evenements/2023/09/27/tournoi-du-mercredi-1820587
END:VEVENT
END:VCALENDAR
