BEGIN:VCALENDAR
VERSION:2.0
PRODID:-//hacksw/handcal//NONSGML v1.0//EN
BEGIN:VEVENT
SUMMARY:Tournoi du mercredi
UID:b5efa1d2-e356-465a-aba2-2abd276836f7
DTSTART:20231004T120000Z
DTEND:20231004T160000Z
LOCATION:Localisation   
CATEGORIES:Sportif
STATUS:
URL;VALUE=URI:https://bridgeclubeauze.sportsregions.fr/evenements/2023/10/04/tournoi-du-mercredi-1820588
END:VEVENT
END:VCALENDAR
