BEGIN:VCALENDAR
VERSION:2.0
PRODID:-//hacksw/handcal//NONSGML v1.0//EN
BEGIN:VEVENT
SUMMARY:Tournoi du mercredi
UID:86c455ab-223b-4f30-b586-c38be272362e
DTSTART:20231011T120000Z
DTEND:20231011T160000Z
LOCATION:Localisation   
CATEGORIES:Sportif
STATUS:
URL;VALUE=URI:https://bridgeclubeauze.sportsregions.fr/evenements/2023/10/11/tournoi-du-mercredi-1820589
END:VEVENT
END:VCALENDAR
