BEGIN:VCALENDAR
VERSION:2.0
PRODID:-//hacksw/handcal//NONSGML v1.0//EN
BEGIN:VEVENT
SUMMARY:Tournoi du mercredi
UID:9d48b9fa-8531-4533-9e0d-c43f45f66236
DTSTART:20231018T120000Z
DTEND:20231018T160000Z
LOCATION:Localisation   
CATEGORIES:Sportif
STATUS:
URL;VALUE=URI:https://bridgeclubeauze.sportsregions.fr/evenements/2023/10/18/tournoi-du-mercredi-1820590
END:VEVENT
END:VCALENDAR
