BEGIN:VCALENDAR
VERSION:2.0
PRODID:-//hacksw/handcal//NONSGML v1.0//EN
BEGIN:VEVENT
SUMMARY:Tournoi du mercredi
UID:0554de31-3518-47a7-ab7e-d80596b1f0ec
DTSTART:20231101T130000Z
DTEND:20231101T170000Z
LOCATION:Localisation   
CATEGORIES:Sportif
STATUS:
URL;VALUE=URI:https://bridgeclubeauze.sportsregions.fr/evenements/2023/11/01/tournoi-du-mercredi-1820592
END:VEVENT
END:VCALENDAR
