BEGIN:VCALENDAR
VERSION:2.0
PRODID:-//hacksw/handcal//NONSGML v1.0//EN
BEGIN:VEVENT
SUMMARY:Tournoi du mercredi
UID:439ea73d-f579-49cb-8fce-d29f4a4c0814
DTSTART:20231115T130000Z
DTEND:20231115T170000Z
LOCATION:Localisation   
CATEGORIES:Sportif
STATUS:
URL;VALUE=URI:https://bridgeclubeauze.sportsregions.fr/evenements/2023/11/15/tournoi-du-mercredi-1820594
END:VEVENT
END:VCALENDAR
