BEGIN:VCALENDAR
VERSION:2.0
PRODID:-//hacksw/handcal//NONSGML v1.0//EN
BEGIN:VEVENT
SUMMARY:Tournoi du mercredi
UID:2806cba1-9c1a-4edb-bef2-27660d5db46d
DTSTART:20231122T130000Z
DTEND:20231122T170000Z
LOCATION:Localisation   
CATEGORIES:Sportif
STATUS:
URL;VALUE=URI:https://bridgeclubeauze.sportsregions.fr/evenements/2023/11/22/tournoi-du-mercredi-1820595
END:VEVENT
END:VCALENDAR
