BEGIN:VCALENDAR
VERSION:2.0
PRODID:-//hacksw/handcal//NONSGML v1.0//EN
BEGIN:VEVENT
SUMMARY:Tournoi du mercredi
UID:ec2de623-8c2a-4d3e-9b70-6bd913395cf8
DTSTART:20231206T130000Z
DTEND:20231206T170000Z
LOCATION:Localisation   
CATEGORIES:Sportif
STATUS:
URL;VALUE=URI:https://bridgeclubeauze.sportsregions.fr/evenements/2023/12/06/tournoi-du-mercredi-1820597
END:VEVENT
END:VCALENDAR
