BEGIN:VCALENDAR
VERSION:2.0
PRODID:-//hacksw/handcal//NONSGML v1.0//EN
BEGIN:VEVENT
SUMMARY:Tournoi du mercredi
UID:336e2779-70e4-44a0-a4a3-faf7794e72fa
DTSTART:20231213T130000Z
DTEND:20231213T170000Z
LOCATION:Localisation   
CATEGORIES:Sportif
STATUS:
URL;VALUE=URI:https://bridgeclubeauze.sportsregions.fr/evenements/2023/12/13/tournoi-du-mercredi-1820598
END:VEVENT
END:VCALENDAR
