BEGIN:VCALENDAR
VERSION:2.0
PRODID:-//hacksw/handcal//NONSGML v1.0//EN
BEGIN:VEVENT
SUMMARY:Tournoi du mercredi
UID:7d185594-8a64-419b-b0b9-ca705ca54b24
DTSTART:20231220T130000Z
DTEND:20231220T170000Z
LOCATION:Localisation   
CATEGORIES:Sportif
STATUS:
URL;VALUE=URI:https://bridgeclubeauze.sportsregions.fr/evenements/2023/12/20/tournoi-du-mercredi-1820599
END:VEVENT
END:VCALENDAR
