BEGIN:VCALENDAR
VERSION:2.0
PRODID:-//hacksw/handcal//NONSGML v1.0//EN
BEGIN:VEVENT
SUMMARY:Tournoi du mercredi
UID:bcb9537d-f5a2-4f8c-82c4-38b72f50bf4b
DTSTART:20231227T130000Z
DTEND:20231227T170000Z
LOCATION:Localisation   
CATEGORIES:Sportif
STATUS:
URL;VALUE=URI:https://bridgeclubeauze.sportsregions.fr/evenements/2023/12/27/tournoi-du-mercredi-1820600
END:VEVENT
END:VCALENDAR
