BEGIN:VCALENDAR
VERSION:2.0
PRODID:-//hacksw/handcal//NONSGML v1.0//EN
BEGIN:VEVENT
SUMMARY:Tournoi du mercredi
UID:d2e0fa76-cbc6-4e70-9ef8-117875afd4ad
DTSTART:20240103T130000Z
DTEND:20240103T170000Z
LOCATION:Localisation   
CATEGORIES:Sportif
STATUS:
URL;VALUE=URI:https://bridgeclubeauze.sportsregions.fr/evenements/2024/01/03/tournoi-du-mercredi-1942434
END:VEVENT
END:VCALENDAR
