BEGIN:VCALENDAR
VERSION:2.0
PRODID:-//hacksw/handcal//NONSGML v1.0//EN
BEGIN:VEVENT
SUMMARY:Tournoi du mercredi
UID:ec599804-c2b3-4a0c-9d69-3709e3316b74
DTSTART:20240110T130000Z
DTEND:20240110T170000Z
LOCATION:Localisation   
CATEGORIES:Sportif
STATUS:
URL;VALUE=URI:https://bridgeclubeauze.sportsregions.fr/evenements/2024/01/10/tournoi-du-mercredi-1942436
END:VEVENT
END:VCALENDAR
