BEGIN:VCALENDAR
VERSION:2.0
PRODID:-//hacksw/handcal//NONSGML v1.0//EN
BEGIN:VEVENT
SUMMARY:Tournoi du mercredi
UID:cfa6311a-b514-417c-b209-f27cf5d16505
DTSTART:20240124T130000Z
DTEND:20240124T170000Z
LOCATION:Localisation   
CATEGORIES:Sportif
STATUS:
URL;VALUE=URI:https://bridgeclubeauze.sportsregions.fr/evenements/2024/01/24/tournoi-du-mercredi-1942438
END:VEVENT
END:VCALENDAR
