BEGIN:VCALENDAR
VERSION:2.0
PRODID:-//hacksw/handcal//NONSGML v1.0//EN
BEGIN:VEVENT
SUMMARY:Tournoi du mercredi
UID:9c48e722-0e39-45da-b712-9853b1f7b1c7
DTSTART:20240207T130000Z
DTEND:20240207T170000Z
LOCATION:Localisation   
CATEGORIES:Sportif
STATUS:
URL;VALUE=URI:https://bridgeclubeauze.sportsregions.fr/evenements/2024/02/07/tournoi-du-mercredi-1942440
END:VEVENT
END:VCALENDAR
