BEGIN:VCALENDAR
VERSION:2.0
PRODID:-//hacksw/handcal//NONSGML v1.0//EN
BEGIN:VEVENT
SUMMARY:Tournoi du mercredi
UID:a75c1465-78c5-4d65-9930-c3bfd3ff60d1
DTSTART:20240214T130000Z
DTEND:20240214T170000Z
LOCATION:Localisation   
CATEGORIES:Sportif
STATUS:
URL;VALUE=URI:https://bridgeclubeauze.sportsregions.fr/evenements/2024/02/14/tournoi-du-mercredi-1942441
END:VEVENT
END:VCALENDAR
