BEGIN:VCALENDAR
VERSION:2.0
PRODID:-//hacksw/handcal//NONSGML v1.0//EN
BEGIN:VEVENT
SUMMARY:Tournoi du mercredi
UID:7ee6e56f-1994-4a25-b847-344776595fbd
DTSTART:20240221T130000Z
DTEND:20240221T170000Z
LOCATION:Localisation   
CATEGORIES:Sportif
STATUS:
URL;VALUE=URI:https://bridgeclubeauze.sportsregions.fr/evenements/2024/02/21/tournoi-du-mercredi-1942442
END:VEVENT
END:VCALENDAR
