BEGIN:VCALENDAR
VERSION:2.0
PRODID:-//hacksw/handcal//NONSGML v1.0//EN
BEGIN:VEVENT
SUMMARY:Tournoi du mercredi
UID:88464770-6343-45a4-b150-c201ee753ed9
DTSTART:20240228T130000Z
DTEND:20240228T170000Z
LOCATION:Localisation   
CATEGORIES:Sportif
STATUS:
URL;VALUE=URI:https://bridgeclubeauze.sportsregions.fr/evenements/2024/02/28/tournoi-du-mercredi-1942443
END:VEVENT
END:VCALENDAR
