BEGIN:VCALENDAR
VERSION:2.0
PRODID:-//hacksw/handcal//NONSGML v1.0//EN
BEGIN:VEVENT
SUMMARY:Tournoi du mercredi
UID:3ee8649a-3e1a-4da1-be18-efd3920a676f
DTSTART:20240313T130000Z
DTEND:20240313T170000Z
LOCATION:Localisation   
CATEGORIES:Sportif
STATUS:
URL;VALUE=URI:https://bridgeclubeauze.sportsregions.fr/evenements/2024/03/13/tournoi-du-mercredi-1942445
END:VEVENT
END:VCALENDAR
