BEGIN:VCALENDAR
VERSION:2.0
PRODID:-//hacksw/handcal//NONSGML v1.0//EN
BEGIN:VEVENT
SUMMARY:Tournoi du mercredi
UID:51a882f3-a821-4b8d-87c0-1c5a66af5f87
DTSTART:20240320T130000Z
DTEND:20240320T170000Z
LOCATION:Localisation   
CATEGORIES:Sportif
STATUS:
URL;VALUE=URI:https://bridgeclubeauze.sportsregions.fr/evenements/2024/03/20/tournoi-du-mercredi-1942446
END:VEVENT
END:VCALENDAR
