BEGIN:VCALENDAR
VERSION:2.0
PRODID:-//hacksw/handcal//NONSGML v1.0//EN
BEGIN:VEVENT
SUMMARY:Tournoi du mercredi
UID:06de83e8-939d-4041-a1e4-bf655891b51c
DTSTART:20240327T130000Z
DTEND:20240327T170000Z
LOCATION:Localisation   
CATEGORIES:Sportif
STATUS:
URL;VALUE=URI:https://bridgeclubeauze.sportsregions.fr/evenements/2024/03/27/tournoi-du-mercredi-1942447
END:VEVENT
END:VCALENDAR
