BEGIN:VCALENDAR
VERSION:2.0
PRODID:-//hacksw/handcal//NONSGML v1.0//EN
BEGIN:VEVENT
SUMMARY:Tournoi du mercredi
UID:0921836c-5f29-457c-8dbd-cd9ab20b0654
DTSTART:20240403T120000Z
DTEND:20240403T160000Z
LOCATION:Localisation   
CATEGORIES:Sportif
STATUS:
URL;VALUE=URI:https://bridgeclubeauze.sportsregions.fr/evenements/2024/04/03/tournoi-du-mercredi-1942448
END:VEVENT
END:VCALENDAR
