BEGIN:VCALENDAR
VERSION:2.0
PRODID:-//hacksw/handcal//NONSGML v1.0//EN
BEGIN:VEVENT
SUMMARY:Tournoi du mercredi
UID:68a9c2ad-af77-4719-bcfa-1b5fbf9743cc
DTSTART:20240410T120000Z
DTEND:20240410T160000Z
LOCATION:Localisation   
CATEGORIES:Sportif
STATUS:
URL;VALUE=URI:https://bridgeclubeauze.sportsregions.fr/evenements/2024/04/10/tournoi-du-mercredi-1942449
END:VEVENT
END:VCALENDAR
