BEGIN:VCALENDAR
VERSION:2.0
PRODID:-//hacksw/handcal//NONSGML v1.0//EN
BEGIN:VEVENT
SUMMARY:Tournoi du mercredi
UID:474dcdd3-930a-49e3-be76-0a1af887fce5
DTSTART:20240417T120000Z
DTEND:20240417T160000Z
LOCATION:Localisation   
CATEGORIES:Sportif
STATUS:
URL;VALUE=URI:https://bridgeclubeauze.sportsregions.fr/evenements/2024/04/17/tournoi-du-mercredi-1942450
END:VEVENT
END:VCALENDAR
