BEGIN:VCALENDAR
VERSION:2.0
PRODID:-//hacksw/handcal//NONSGML v1.0//EN
BEGIN:VEVENT
SUMMARY:Tournoi du mercredi
UID:8b7cf879-1d33-4451-9eb3-b35e43c3b9cb
DTSTART:20240501T120000Z
DTEND:20240501T160000Z
LOCATION:Localisation   
CATEGORIES:Sportif
STATUS:
URL;VALUE=URI:https://bridgeclubeauze.sportsregions.fr/evenements/2024/05/01/tournoi-du-mercredi-1942452
END:VEVENT
END:VCALENDAR
