BEGIN:VCALENDAR
VERSION:2.0
PRODID:-//hacksw/handcal//NONSGML v1.0//EN
BEGIN:VEVENT
SUMMARY:Tournoi du mercredi
UID:6f8d53c7-0d60-4683-9eb0-a1d233ab7f92
DTSTART:20240508T120000Z
DTEND:20240508T160000Z
LOCATION:Localisation   
CATEGORIES:Sportif
STATUS:
URL;VALUE=URI:https://bridgeclubeauze.sportsregions.fr/evenements/2024/05/08/tournoi-du-mercredi-1942453
END:VEVENT
END:VCALENDAR
