BEGIN:VCALENDAR
VERSION:2.0
PRODID:-//hacksw/handcal//NONSGML v1.0//EN
BEGIN:VEVENT
SUMMARY:Tournoi du mercredi
UID:b775c87f-897b-472c-98a1-655293e6ef0e
DTSTART:20240515T120000Z
DTEND:20240515T160000Z
LOCATION:Localisation   
CATEGORIES:Sportif
STATUS:
URL;VALUE=URI:https://bridgeclubeauze.sportsregions.fr/evenements/2024/05/15/tournoi-du-mercredi-1942454
END:VEVENT
END:VCALENDAR
