BEGIN:VCALENDAR
VERSION:2.0
PRODID:-//hacksw/handcal//NONSGML v1.0//EN
BEGIN:VEVENT
SUMMARY:Tournoi du mercredi
UID:68a0e6f6-ed3f-4e46-b742-5bd6d342e7e4
DTSTART:20240522T120000Z
DTEND:20240522T160000Z
LOCATION:Localisation   
CATEGORIES:Sportif
STATUS:
URL;VALUE=URI:https://bridgeclubeauze.sportsregions.fr/evenements/2024/05/22/tournoi-du-mercredi-1942455
END:VEVENT
END:VCALENDAR
