BEGIN:VCALENDAR
VERSION:2.0
PRODID:-//hacksw/handcal//NONSGML v1.0//EN
BEGIN:VEVENT
SUMMARY:Tournoi du mercredi
UID:433fbacc-0c7d-4231-afdc-f599ef0c87ff
DTSTART:20240605T120000Z
DTEND:20240605T160000Z
LOCATION:Localisation   
CATEGORIES:Sportif
STATUS:
URL;VALUE=URI:https://bridgeclubeauze.sportsregions.fr/evenements/2024/06/05/tournoi-du-mercredi-1942457
END:VEVENT
END:VCALENDAR
