BEGIN:VCALENDAR
VERSION:2.0
PRODID:-//hacksw/handcal//NONSGML v1.0//EN
BEGIN:VEVENT
SUMMARY:Tournoi du mercredi
UID:29ea0a63-1611-42af-9b34-58ddaf95722e
DTSTART:20240612T120000Z
DTEND:20240612T160000Z
LOCATION:Localisation   
CATEGORIES:Sportif
STATUS:
URL;VALUE=URI:https://bridgeclubeauze.sportsregions.fr/evenements/2024/06/12/tournoi-du-mercredi-1942458
END:VEVENT
END:VCALENDAR
