BEGIN:VCALENDAR
VERSION:2.0
PRODID:-//hacksw/handcal//NONSGML v1.0//EN
BEGIN:VEVENT
SUMMARY:Tournoi du mercredi
UID:0edcee61-1901-442f-968e-de15dfe61cad
DTSTART:20240619T120000Z
DTEND:20240619T160000Z
LOCATION:Localisation   
CATEGORIES:Sportif
STATUS:
URL;VALUE=URI:https://bridgeclubeauze.sportsregions.fr/evenements/2024/06/19/tournoi-du-mercredi-1942459
END:VEVENT
END:VCALENDAR
