BEGIN:VCALENDAR
VERSION:2.0
PRODID:-//hacksw/handcal//NONSGML v1.0//EN
BEGIN:VEVENT
SUMMARY:Tournoi du mercredi
UID:72becdce-cc00-414c-b1fc-56d603860bb6
DTSTART:20240626T120000Z
DTEND:20240626T160000Z
LOCATION:Localisation   
CATEGORIES:Sportif
STATUS:
URL;VALUE=URI:https://bridgeclubeauze.sportsregions.fr/evenements/2024/06/26/tournoi-du-mercredi-1942460
END:VEVENT
END:VCALENDAR
