BEGIN:VCALENDAR
VERSION:2.0
PRODID:-//hacksw/handcal//NONSGML v1.0//EN
BEGIN:VEVENT
SUMMARY:Tournoi du mercredi
UID:6fb3e43c-79a6-45db-8c2d-260a41c09762
DTSTART:20240703T120000Z
DTEND:20240703T160000Z
LOCATION:Localisation   
CATEGORIES:Sportif
STATUS:
URL;VALUE=URI:https://bridgeclubeauze.sportsregions.fr/evenements/2024/07/03/tournoi-du-mercredi-1942461
END:VEVENT
END:VCALENDAR
