BEGIN:VCALENDAR
VERSION:2.0
PRODID:-//hacksw/handcal//NONSGML v1.0//EN
BEGIN:VEVENT
SUMMARY:Tournoi du mercredi
UID:66a1ec43-9b93-4b62-96e5-291955d5f7b3
DTSTART:20240710T120000Z
DTEND:20240710T160000Z
LOCATION:Localisation   
CATEGORIES:Sportif
STATUS:
URL;VALUE=URI:https://bridgeclubeauze.sportsregions.fr/evenements/2024/07/10/tournoi-du-mercredi-1942462
END:VEVENT
END:VCALENDAR
