BEGIN:VCALENDAR
VERSION:2.0
PRODID:-//hacksw/handcal//NONSGML v1.0//EN
BEGIN:VEVENT
SUMMARY:Tournoi du mercredi
UID:8325d61a-d47b-4455-9bcb-f6e8e5254e40
DTSTART:20240717T120000Z
DTEND:20240717T160000Z
LOCATION:Localisation   
CATEGORIES:Sportif
STATUS:
URL;VALUE=URI:https://bridgeclubeauze.sportsregions.fr/evenements/2024/07/17/tournoi-du-mercredi-1942463
END:VEVENT
END:VCALENDAR
