BEGIN:VCALENDAR
VERSION:2.0
PRODID:-//hacksw/handcal//NONSGML v1.0//EN
BEGIN:VEVENT
SUMMARY:Tournoi du mercredi
UID:6b128846-42d2-42e0-8c7f-42d02de0ec4c
DTSTART:20240731T120000Z
DTEND:20240731T160000Z
LOCATION:Localisation   
CATEGORIES:Sportif
STATUS:
URL;VALUE=URI:https://bridgeclubeauze.sportsregions.fr/evenements/2024/07/31/tournoi-du-mercredi-1942465
END:VEVENT
END:VCALENDAR
